BEGIN:VCALENDAR
VERSION:2.0
PRODID:-//The Wiser Driver Driving School - ECPv6.15.20//NONSGML v1.0//EN
CALSCALE:GREGORIAN
METHOD:PUBLISH
X-ORIGINAL-URL:https://thewiserdriver.com
X-WR-CALDESC:Events for The Wiser Driver Driving School
REFRESH-INTERVAL;VALUE=DURATION:PT1H
X-Robots-Tag:noindex
X-PUBLISHED-TTL:PT1H
BEGIN:VTIMEZONE
TZID:UTC
BEGIN:STANDARD
TZOFFSETFROM:+0000
TZOFFSETTO:+0000
TZNAME:UTC
DTSTART:20230101T000000
END:STANDARD
END:VTIMEZONE
BEGIN:VEVENT
DTSTART;TZID=UTC:20241109T080000
DTEND;TZID=UTC:20241110T160000
DTSTAMP:20260421T164123
CREATED:20241102T150958Z
LAST-MODIFIED:20241102T151052Z
UID:3808-1731139200-1731254400@thewiserdriver.com
SUMMARY:Joshua's Law
DESCRIPTION:November 9th\, 10th\, 16th\, 17th \nClass Time: 8:00 AM to 4:00 PM
URL:https://thewiserdriver.com/event/3808/
CATEGORIES:Joshua's Law Classroom
END:VEVENT
BEGIN:VEVENT
DTSTART;VALUE=DATE:20241016
DTEND;VALUE=DATE:20241025
DTSTAMP:20260421T164123
CREATED:20240930T184654Z
LAST-MODIFIED:20240930T202623Z
UID:3593-1729036800-1729814399@thewiserdriver.com
SUMMARY:Joshua's Law
DESCRIPTION:Event details \nClass Time: 8:00 AM to 4:00 PM
URL:https://thewiserdriver.com/event/joshuas-law-3/
CATEGORIES:Joshua's Law Classroom
END:VEVENT
BEGIN:VEVENT
DTSTART;VALUE=DATE:20241012
DTEND;VALUE=DATE:20241014
DTSTAMP:20260421T164123
CREATED:20240929T210429Z
LAST-MODIFIED:20240930T201901Z
UID:3515-1728691200-1728863999@thewiserdriver.com
SUMMARY:Joshuas Law
DESCRIPTION:Class Time: 8:00 AM to 4:00 PM
URL:https://thewiserdriver.com/event/joshuas-law-2/
CATEGORIES:Joshua's Law Classroom
END:VEVENT
BEGIN:VEVENT
DTSTART;VALUE=DATE:20241005
DTEND;VALUE=DATE:20241007
DTSTAMP:20260421T164123
CREATED:20240929T205920Z
LAST-MODIFIED:20240930T201247Z
UID:3513-1728086400-1728259199@thewiserdriver.com
SUMMARY:Joshuas Law
DESCRIPTION:Class Time: 8:00 am to 4:00pm
URL:https://thewiserdriver.com/event/joshuas-law/
CATEGORIES:Joshua's Law Classroom
END:VEVENT
END:VCALENDAR